BEGIN:VCALENDAR
VERSION:2.0
PRODID:-//Friendship Hall - ECPv6.15.20//NONSGML v1.0//EN
CALSCALE:GREGORIAN
METHOD:PUBLISH
X-WR-CALNAME:Friendship Hall
X-ORIGINAL-URL:https://friendshiphall.org
X-WR-CALDESC:Events for Friendship Hall
REFRESH-INTERVAL;VALUE=DURATION:PT1H
X-Robots-Tag:noindex
X-PUBLISHED-TTL:PT1H
BEGIN:VTIMEZONE
TZID:America/New_York
BEGIN:DAYLIGHT
TZOFFSETFROM:-0500
TZOFFSETTO:-0400
TZNAME:EDT
DTSTART:20260308T070000
END:DAYLIGHT
BEGIN:STANDARD
TZOFFSETFROM:-0400
TZOFFSETTO:-0500
TZNAME:EST
DTSTART:20261101T060000
END:STANDARD
BEGIN:DAYLIGHT
TZOFFSETFROM:-0500
TZOFFSETTO:-0400
TZNAME:EDT
DTSTART:20270314T070000
END:DAYLIGHT
BEGIN:STANDARD
TZOFFSETFROM:-0400
TZOFFSETTO:-0500
TZNAME:EST
DTSTART:20271107T060000
END:STANDARD
BEGIN:DAYLIGHT
TZOFFSETFROM:-0500
TZOFFSETTO:-0400
TZNAME:EDT
DTSTART:20280312T070000
END:DAYLIGHT
BEGIN:STANDARD
TZOFFSETFROM:-0400
TZOFFSETTO:-0500
TZNAME:EST
DTSTART:20281105T060000
END:STANDARD
BEGIN:DAYLIGHT
TZOFFSETFROM:-0500
TZOFFSETTO:-0400
TZNAME:EDT
DTSTART:20290311T070000
END:DAYLIGHT
BEGIN:STANDARD
TZOFFSETFROM:-0400
TZOFFSETTO:-0500
TZNAME:EST
DTSTART:20291104T060000
END:STANDARD
END:VTIMEZONE
BEGIN:VEVENT
DTSTART;TZID=America/New_York:20280204T183000
DTEND;TZID=America/New_York:20280204T203000
DTSTAMP:20260423T124850
CREATED:20260320T162649Z
LAST-MODIFIED:20260320T162822Z
UID:10003337-1833301800-1833309000@friendshiphall.org
SUMMARY:AA Meeting
DESCRIPTION:
URL:https://friendshiphall.org/event/aa-meeting-3/2028-02-04/
LOCATION:Friendship Hall\, 83 Old Main Street\, Marshfield Hills\, MA\, 02051\, United States
END:VEVENT
BEGIN:VEVENT
DTSTART;TZID=America/New_York:20280203T093000
DTEND;TZID=America/New_York:20280203T113000
DTSTAMP:20260423T124850
CREATED:20260320T161938Z
LAST-MODIFIED:20260320T162541Z
UID:10003075-1833183000-1833190200@friendshiphall.org
SUMMARY:AA Meeting
DESCRIPTION:
URL:https://friendshiphall.org/event/aa-meeting-2/2028-02-03/
LOCATION:Friendship Hall\, 83 Old Main Street\, Marshfield Hills\, MA\, 02051\, United States
END:VEVENT
BEGIN:VEVENT
DTSTART;TZID=America/New_York:20280131T093000
DTEND;TZID=America/New_York:20280131T113000
DTSTAMP:20260423T124850
CREATED:20260211T173242Z
LAST-MODIFIED:20260211T173455Z
UID:10000906-1832923800-1832931000@friendshiphall.org
SUMMARY:AA Meeting
DESCRIPTION:
URL:https://friendshiphall.org/event/aa-meeting/2028-01-31/
LOCATION:Friendship Hall\, 83 Old Main Street\, Marshfield Hills\, MA\, 02051\, United States
END:VEVENT
BEGIN:VEVENT
DTSTART;TZID=America/New_York:20280130T173000
DTEND;TZID=America/New_York:20280130T193000
DTSTAMP:20260423T124850
CREATED:20260320T163124Z
LAST-MODIFIED:20260320T163327Z
UID:10003598-1832866200-1832873400@friendshiphall.org
SUMMARY:AA Meeting
DESCRIPTION:
URL:https://friendshiphall.org/event/aa-meeting-4/2028-01-30/
LOCATION:Friendship Hall\, 83 Old Main Street\, Marshfield Hills\, MA\, 02051\, United States
END:VEVENT
BEGIN:VEVENT
DTSTART;TZID=America/New_York:20280128T183000
DTEND;TZID=America/New_York:20280128T203000
DTSTAMP:20260423T124850
CREATED:20260320T162649Z
LAST-MODIFIED:20260320T162822Z
UID:10003336-1832697000-1832704200@friendshiphall.org
SUMMARY:AA Meeting
DESCRIPTION:
URL:https://friendshiphall.org/event/aa-meeting-3/2028-01-28/
LOCATION:Friendship Hall\, 83 Old Main Street\, Marshfield Hills\, MA\, 02051\, United States
END:VEVENT
BEGIN:VEVENT
DTSTART;TZID=America/New_York:20280127T093000
DTEND;TZID=America/New_York:20280127T113000
DTSTAMP:20260423T124850
CREATED:20260320T161938Z
LAST-MODIFIED:20260320T162541Z
UID:10003074-1832578200-1832585400@friendshiphall.org
SUMMARY:AA Meeting
DESCRIPTION:
URL:https://friendshiphall.org/event/aa-meeting-2/2028-01-27/
LOCATION:Friendship Hall\, 83 Old Main Street\, Marshfield Hills\, MA\, 02051\, United States
END:VEVENT
BEGIN:VEVENT
DTSTART;TZID=America/New_York:20280124T093000
DTEND;TZID=America/New_York:20280124T113000
DTSTAMP:20260423T124850
CREATED:20260211T173242Z
LAST-MODIFIED:20260211T173455Z
UID:10000905-1832319000-1832326200@friendshiphall.org
SUMMARY:AA Meeting
DESCRIPTION:
URL:https://friendshiphall.org/event/aa-meeting/2028-01-24/
LOCATION:Friendship Hall\, 83 Old Main Street\, Marshfield Hills\, MA\, 02051\, United States
END:VEVENT
BEGIN:VEVENT
DTSTART;TZID=America/New_York:20280123T173000
DTEND;TZID=America/New_York:20280123T193000
DTSTAMP:20260423T124850
CREATED:20260320T163124Z
LAST-MODIFIED:20260320T163327Z
UID:10003597-1832261400-1832268600@friendshiphall.org
SUMMARY:AA Meeting
DESCRIPTION:
URL:https://friendshiphall.org/event/aa-meeting-4/2028-01-23/
LOCATION:Friendship Hall\, 83 Old Main Street\, Marshfield Hills\, MA\, 02051\, United States
END:VEVENT
BEGIN:VEVENT
DTSTART;TZID=America/New_York:20280121T183000
DTEND;TZID=America/New_York:20280121T203000
DTSTAMP:20260423T124850
CREATED:20260320T162649Z
LAST-MODIFIED:20260320T162822Z
UID:10003335-1832092200-1832099400@friendshiphall.org
SUMMARY:AA Meeting
DESCRIPTION:
URL:https://friendshiphall.org/event/aa-meeting-3/2028-01-21/
LOCATION:Friendship Hall\, 83 Old Main Street\, Marshfield Hills\, MA\, 02051\, United States
END:VEVENT
BEGIN:VEVENT
DTSTART;TZID=America/New_York:20280120T093000
DTEND;TZID=America/New_York:20280120T113000
DTSTAMP:20260423T124850
CREATED:20260320T161938Z
LAST-MODIFIED:20260320T162541Z
UID:10003073-1831973400-1831980600@friendshiphall.org
SUMMARY:AA Meeting
DESCRIPTION:
URL:https://friendshiphall.org/event/aa-meeting-2/2028-01-20/
LOCATION:Friendship Hall\, 83 Old Main Street\, Marshfield Hills\, MA\, 02051\, United States
END:VEVENT
BEGIN:VEVENT
DTSTART;TZID=America/New_York:20280117T093000
DTEND;TZID=America/New_York:20280117T113000
DTSTAMP:20260423T124850
CREATED:20260211T173242Z
LAST-MODIFIED:20260211T173455Z
UID:10000904-1831714200-1831721400@friendshiphall.org
SUMMARY:AA Meeting
DESCRIPTION:
URL:https://friendshiphall.org/event/aa-meeting/2028-01-17/
LOCATION:Friendship Hall\, 83 Old Main Street\, Marshfield Hills\, MA\, 02051\, United States
END:VEVENT
BEGIN:VEVENT
DTSTART;TZID=America/New_York:20280116T173000
DTEND;TZID=America/New_York:20280116T193000
DTSTAMP:20260423T124850
CREATED:20260320T163124Z
LAST-MODIFIED:20260320T163327Z
UID:10003596-1831656600-1831663800@friendshiphall.org
SUMMARY:AA Meeting
DESCRIPTION:
URL:https://friendshiphall.org/event/aa-meeting-4/2028-01-16/
LOCATION:Friendship Hall\, 83 Old Main Street\, Marshfield Hills\, MA\, 02051\, United States
END:VEVENT
BEGIN:VEVENT
DTSTART;TZID=America/New_York:20280114T183000
DTEND;TZID=America/New_York:20280114T203000
DTSTAMP:20260423T124850
CREATED:20260320T162649Z
LAST-MODIFIED:20260320T162822Z
UID:10003334-1831487400-1831494600@friendshiphall.org
SUMMARY:AA Meeting
DESCRIPTION:
URL:https://friendshiphall.org/event/aa-meeting-3/2028-01-14/
LOCATION:Friendship Hall\, 83 Old Main Street\, Marshfield Hills\, MA\, 02051\, United States
END:VEVENT
BEGIN:VEVENT
DTSTART;TZID=America/New_York:20280113T093000
DTEND;TZID=America/New_York:20280113T113000
DTSTAMP:20260423T124850
CREATED:20260320T161938Z
LAST-MODIFIED:20260320T162541Z
UID:10003072-1831368600-1831375800@friendshiphall.org
SUMMARY:AA Meeting
DESCRIPTION:
URL:https://friendshiphall.org/event/aa-meeting-2/2028-01-13/
LOCATION:Friendship Hall\, 83 Old Main Street\, Marshfield Hills\, MA\, 02051\, United States
END:VEVENT
BEGIN:VEVENT
DTSTART;TZID=America/New_York:20280110T093000
DTEND;TZID=America/New_York:20280110T113000
DTSTAMP:20260423T124850
CREATED:20260211T173242Z
LAST-MODIFIED:20260211T173455Z
UID:10000903-1831109400-1831116600@friendshiphall.org
SUMMARY:AA Meeting
DESCRIPTION:
URL:https://friendshiphall.org/event/aa-meeting/2028-01-10/
LOCATION:Friendship Hall\, 83 Old Main Street\, Marshfield Hills\, MA\, 02051\, United States
END:VEVENT
BEGIN:VEVENT
DTSTART;TZID=America/New_York:20280109T173000
DTEND;TZID=America/New_York:20280109T193000
DTSTAMP:20260423T124850
CREATED:20260320T163124Z
LAST-MODIFIED:20260320T163327Z
UID:10003595-1831051800-1831059000@friendshiphall.org
SUMMARY:AA Meeting
DESCRIPTION:
URL:https://friendshiphall.org/event/aa-meeting-4/2028-01-09/
LOCATION:Friendship Hall\, 83 Old Main Street\, Marshfield Hills\, MA\, 02051\, United States
END:VEVENT
BEGIN:VEVENT
DTSTART;TZID=America/New_York:20280107T183000
DTEND;TZID=America/New_York:20280107T203000
DTSTAMP:20260423T124850
CREATED:20260320T162649Z
LAST-MODIFIED:20260320T162822Z
UID:10003333-1830882600-1830889800@friendshiphall.org
SUMMARY:AA Meeting
DESCRIPTION:
URL:https://friendshiphall.org/event/aa-meeting-3/2028-01-07/
LOCATION:Friendship Hall\, 83 Old Main Street\, Marshfield Hills\, MA\, 02051\, United States
END:VEVENT
BEGIN:VEVENT
DTSTART;TZID=America/New_York:20280106T093000
DTEND;TZID=America/New_York:20280106T113000
DTSTAMP:20260423T124850
CREATED:20260320T161938Z
LAST-MODIFIED:20260320T162541Z
UID:10003071-1830763800-1830771000@friendshiphall.org
SUMMARY:AA Meeting
DESCRIPTION:
URL:https://friendshiphall.org/event/aa-meeting-2/2028-01-06/
LOCATION:Friendship Hall\, 83 Old Main Street\, Marshfield Hills\, MA\, 02051\, United States
END:VEVENT
BEGIN:VEVENT
DTSTART;TZID=America/New_York:20280103T093000
DTEND;TZID=America/New_York:20280103T113000
DTSTAMP:20260423T124850
CREATED:20260211T173242Z
LAST-MODIFIED:20260211T173455Z
UID:10000902-1830504600-1830511800@friendshiphall.org
SUMMARY:AA Meeting
DESCRIPTION:
URL:https://friendshiphall.org/event/aa-meeting/2028-01-03/
LOCATION:Friendship Hall\, 83 Old Main Street\, Marshfield Hills\, MA\, 02051\, United States
END:VEVENT
BEGIN:VEVENT
DTSTART;TZID=America/New_York:20280102T173000
DTEND;TZID=America/New_York:20280102T193000
DTSTAMP:20260423T124850
CREATED:20260320T163124Z
LAST-MODIFIED:20260320T163327Z
UID:10003594-1830447000-1830454200@friendshiphall.org
SUMMARY:AA Meeting
DESCRIPTION:
URL:https://friendshiphall.org/event/aa-meeting-4/2028-01-02/
LOCATION:Friendship Hall\, 83 Old Main Street\, Marshfield Hills\, MA\, 02051\, United States
END:VEVENT
BEGIN:VEVENT
DTSTART;TZID=America/New_York:20271231T183000
DTEND;TZID=America/New_York:20271231T203000
DTSTAMP:20260423T124850
CREATED:20260320T162649Z
LAST-MODIFIED:20260320T162822Z
UID:10003332-1830277800-1830285000@friendshiphall.org
SUMMARY:AA Meeting
DESCRIPTION:
URL:https://friendshiphall.org/event/aa-meeting-3/2027-12-31/
LOCATION:Friendship Hall\, 83 Old Main Street\, Marshfield Hills\, MA\, 02051\, United States
END:VEVENT
BEGIN:VEVENT
DTSTART;TZID=America/New_York:20271230T093000
DTEND;TZID=America/New_York:20271230T113000
DTSTAMP:20260423T124850
CREATED:20260320T161938Z
LAST-MODIFIED:20260320T162541Z
UID:10003070-1830159000-1830166200@friendshiphall.org
SUMMARY:AA Meeting
DESCRIPTION:
URL:https://friendshiphall.org/event/aa-meeting-2/2027-12-30/
LOCATION:Friendship Hall\, 83 Old Main Street\, Marshfield Hills\, MA\, 02051\, United States
END:VEVENT
BEGIN:VEVENT
DTSTART;TZID=America/New_York:20271227T093000
DTEND;TZID=America/New_York:20271227T113000
DTSTAMP:20260423T124850
CREATED:20260211T173242Z
LAST-MODIFIED:20260211T173455Z
UID:10000901-1829899800-1829907000@friendshiphall.org
SUMMARY:AA Meeting
DESCRIPTION:
URL:https://friendshiphall.org/event/aa-meeting/2027-12-27/
LOCATION:Friendship Hall\, 83 Old Main Street\, Marshfield Hills\, MA\, 02051\, United States
END:VEVENT
BEGIN:VEVENT
DTSTART;TZID=America/New_York:20271226T173000
DTEND;TZID=America/New_York:20271226T193000
DTSTAMP:20260423T124850
CREATED:20260320T163124Z
LAST-MODIFIED:20260320T163327Z
UID:10003593-1829842200-1829849400@friendshiphall.org
SUMMARY:AA Meeting
DESCRIPTION:
URL:https://friendshiphall.org/event/aa-meeting-4/2027-12-26/
LOCATION:Friendship Hall\, 83 Old Main Street\, Marshfield Hills\, MA\, 02051\, United States
END:VEVENT
BEGIN:VEVENT
DTSTART;TZID=America/New_York:20271224T183000
DTEND;TZID=America/New_York:20271224T203000
DTSTAMP:20260423T124850
CREATED:20260320T162649Z
LAST-MODIFIED:20260320T162822Z
UID:10003331-1829673000-1829680200@friendshiphall.org
SUMMARY:AA Meeting
DESCRIPTION:
URL:https://friendshiphall.org/event/aa-meeting-3/2027-12-24/
LOCATION:Friendship Hall\, 83 Old Main Street\, Marshfield Hills\, MA\, 02051\, United States
END:VEVENT
BEGIN:VEVENT
DTSTART;TZID=America/New_York:20271223T093000
DTEND;TZID=America/New_York:20271223T113000
DTSTAMP:20260423T124850
CREATED:20260320T161938Z
LAST-MODIFIED:20260320T162541Z
UID:10003069-1829554200-1829561400@friendshiphall.org
SUMMARY:AA Meeting
DESCRIPTION:
URL:https://friendshiphall.org/event/aa-meeting-2/2027-12-23/
LOCATION:Friendship Hall\, 83 Old Main Street\, Marshfield Hills\, MA\, 02051\, United States
END:VEVENT
BEGIN:VEVENT
DTSTART;TZID=America/New_York:20271220T093000
DTEND;TZID=America/New_York:20271220T113000
DTSTAMP:20260423T124850
CREATED:20260211T173242Z
LAST-MODIFIED:20260211T173455Z
UID:10000900-1829295000-1829302200@friendshiphall.org
SUMMARY:AA Meeting
DESCRIPTION:
URL:https://friendshiphall.org/event/aa-meeting/2027-12-20/
LOCATION:Friendship Hall\, 83 Old Main Street\, Marshfield Hills\, MA\, 02051\, United States
END:VEVENT
BEGIN:VEVENT
DTSTART;TZID=America/New_York:20271219T173000
DTEND;TZID=America/New_York:20271219T193000
DTSTAMP:20260423T124850
CREATED:20260320T163124Z
LAST-MODIFIED:20260320T163327Z
UID:10003592-1829237400-1829244600@friendshiphall.org
SUMMARY:AA Meeting
DESCRIPTION:
URL:https://friendshiphall.org/event/aa-meeting-4/2027-12-19/
LOCATION:Friendship Hall\, 83 Old Main Street\, Marshfield Hills\, MA\, 02051\, United States
END:VEVENT
BEGIN:VEVENT
DTSTART;TZID=America/New_York:20271217T183000
DTEND;TZID=America/New_York:20271217T203000
DTSTAMP:20260423T124850
CREATED:20260320T162649Z
LAST-MODIFIED:20260320T162822Z
UID:10003330-1829068200-1829075400@friendshiphall.org
SUMMARY:AA Meeting
DESCRIPTION:
URL:https://friendshiphall.org/event/aa-meeting-3/2027-12-17/
LOCATION:Friendship Hall\, 83 Old Main Street\, Marshfield Hills\, MA\, 02051\, United States
END:VEVENT
BEGIN:VEVENT
DTSTART;TZID=America/New_York:20271216T093000
DTEND;TZID=America/New_York:20271216T113000
DTSTAMP:20260423T124850
CREATED:20260320T161938Z
LAST-MODIFIED:20260320T162541Z
UID:10003068-1828949400-1828956600@friendshiphall.org
SUMMARY:AA Meeting
DESCRIPTION:
URL:https://friendshiphall.org/event/aa-meeting-2/2027-12-16/
LOCATION:Friendship Hall\, 83 Old Main Street\, Marshfield Hills\, MA\, 02051\, United States
END:VEVENT
END:VCALENDAR