BEGIN:VCALENDAR
VERSION:2.0
PRODID:-//Friendship Hall - ECPv6.15.20//NONSGML v1.0//EN
CALSCALE:GREGORIAN
METHOD:PUBLISH
X-ORIGINAL-URL:https://friendshiphall.org
X-WR-CALDESC:Events for Friendship Hall
REFRESH-INTERVAL;VALUE=DURATION:PT1H
X-Robots-Tag:noindex
X-PUBLISHED-TTL:PT1H
BEGIN:VTIMEZONE
TZID:America/New_York
BEGIN:DAYLIGHT
TZOFFSETFROM:-0500
TZOFFSETTO:-0400
TZNAME:EDT
DTSTART:20260308T070000
END:DAYLIGHT
BEGIN:STANDARD
TZOFFSETFROM:-0400
TZOFFSETTO:-0500
TZNAME:EST
DTSTART:20261101T060000
END:STANDARD
BEGIN:DAYLIGHT
TZOFFSETFROM:-0500
TZOFFSETTO:-0400
TZNAME:EDT
DTSTART:20270314T070000
END:DAYLIGHT
BEGIN:STANDARD
TZOFFSETFROM:-0400
TZOFFSETTO:-0500
TZNAME:EST
DTSTART:20271107T060000
END:STANDARD
BEGIN:DAYLIGHT
TZOFFSETFROM:-0500
TZOFFSETTO:-0400
TZNAME:EDT
DTSTART:20280312T070000
END:DAYLIGHT
BEGIN:STANDARD
TZOFFSETFROM:-0400
TZOFFSETTO:-0500
TZNAME:EST
DTSTART:20281105T060000
END:STANDARD
BEGIN:DAYLIGHT
TZOFFSETFROM:-0500
TZOFFSETTO:-0400
TZNAME:EDT
DTSTART:20290311T070000
END:DAYLIGHT
BEGIN:STANDARD
TZOFFSETFROM:-0400
TZOFFSETTO:-0500
TZNAME:EST
DTSTART:20291104T060000
END:STANDARD
END:VTIMEZONE
BEGIN:VEVENT
DTSTART;TZID=America/New_York:20271114T173000
DTEND;TZID=America/New_York:20271114T193000
DTSTAMP:20260425T075538
CREATED:20260320T163124Z
LAST-MODIFIED:20260320T163327Z
UID:10003587-1826213400-1826220600@friendshiphall.org
SUMMARY:AA Meeting
DESCRIPTION:
URL:https://friendshiphall.org/event/aa-meeting-4/2027-11-14/
LOCATION:Friendship Hall\, 83 Old Main Street\, Marshfield Hills\, MA\, 02051\, United States
END:VEVENT
BEGIN:VEVENT
DTSTART;TZID=America/New_York:20271115T093000
DTEND;TZID=America/New_York:20271115T113000
DTSTAMP:20260425T075538
CREATED:20260211T173242Z
LAST-MODIFIED:20260211T173455Z
UID:10000895-1826271000-1826278200@friendshiphall.org
SUMMARY:AA Meeting
DESCRIPTION:
URL:https://friendshiphall.org/event/aa-meeting/2027-11-15/
LOCATION:Friendship Hall\, 83 Old Main Street\, Marshfield Hills\, MA\, 02051\, United States
END:VEVENT
BEGIN:VEVENT
DTSTART;TZID=America/New_York:20271118T093000
DTEND;TZID=America/New_York:20271118T113000
DTSTAMP:20260425T075538
CREATED:20260320T161938Z
LAST-MODIFIED:20260320T162541Z
UID:10003064-1826530200-1826537400@friendshiphall.org
SUMMARY:AA Meeting
DESCRIPTION:
URL:https://friendshiphall.org/event/aa-meeting-2/2027-11-18/
LOCATION:Friendship Hall\, 83 Old Main Street\, Marshfield Hills\, MA\, 02051\, United States
END:VEVENT
BEGIN:VEVENT
DTSTART;TZID=America/New_York:20271119T183000
DTEND;TZID=America/New_York:20271119T203000
DTSTAMP:20260425T075538
CREATED:20260320T162649Z
LAST-MODIFIED:20260320T162822Z
UID:10003326-1826649000-1826656200@friendshiphall.org
SUMMARY:AA Meeting
DESCRIPTION:
URL:https://friendshiphall.org/event/aa-meeting-3/2027-11-19/
LOCATION:Friendship Hall\, 83 Old Main Street\, Marshfield Hills\, MA\, 02051\, United States
END:VEVENT
BEGIN:VEVENT
DTSTART;TZID=America/New_York:20271121T173000
DTEND;TZID=America/New_York:20271121T193000
DTSTAMP:20260425T075538
CREATED:20260320T163124Z
LAST-MODIFIED:20260320T163327Z
UID:10003588-1826818200-1826825400@friendshiphall.org
SUMMARY:AA Meeting
DESCRIPTION:
URL:https://friendshiphall.org/event/aa-meeting-4/2027-11-21/
LOCATION:Friendship Hall\, 83 Old Main Street\, Marshfield Hills\, MA\, 02051\, United States
END:VEVENT
BEGIN:VEVENT
DTSTART;TZID=America/New_York:20271122T093000
DTEND;TZID=America/New_York:20271122T113000
DTSTAMP:20260425T075538
CREATED:20260211T173242Z
LAST-MODIFIED:20260211T173455Z
UID:10000896-1826875800-1826883000@friendshiphall.org
SUMMARY:AA Meeting
DESCRIPTION:
URL:https://friendshiphall.org/event/aa-meeting/2027-11-22/
LOCATION:Friendship Hall\, 83 Old Main Street\, Marshfield Hills\, MA\, 02051\, United States
END:VEVENT
BEGIN:VEVENT
DTSTART;TZID=America/New_York:20271125T093000
DTEND;TZID=America/New_York:20271125T113000
DTSTAMP:20260425T075538
CREATED:20260320T161938Z
LAST-MODIFIED:20260320T162541Z
UID:10003065-1827135000-1827142200@friendshiphall.org
SUMMARY:AA Meeting
DESCRIPTION:
URL:https://friendshiphall.org/event/aa-meeting-2/2027-11-25/
LOCATION:Friendship Hall\, 83 Old Main Street\, Marshfield Hills\, MA\, 02051\, United States
END:VEVENT
BEGIN:VEVENT
DTSTART;TZID=America/New_York:20271126T183000
DTEND;TZID=America/New_York:20271126T203000
DTSTAMP:20260425T075538
CREATED:20260320T162649Z
LAST-MODIFIED:20260320T162822Z
UID:10003327-1827253800-1827261000@friendshiphall.org
SUMMARY:AA Meeting
DESCRIPTION:
URL:https://friendshiphall.org/event/aa-meeting-3/2027-11-26/
LOCATION:Friendship Hall\, 83 Old Main Street\, Marshfield Hills\, MA\, 02051\, United States
END:VEVENT
BEGIN:VEVENT
DTSTART;TZID=America/New_York:20271128T173000
DTEND;TZID=America/New_York:20271128T193000
DTSTAMP:20260425T075538
CREATED:20260320T163124Z
LAST-MODIFIED:20260320T163327Z
UID:10003589-1827423000-1827430200@friendshiphall.org
SUMMARY:AA Meeting
DESCRIPTION:
URL:https://friendshiphall.org/event/aa-meeting-4/2027-11-28/
LOCATION:Friendship Hall\, 83 Old Main Street\, Marshfield Hills\, MA\, 02051\, United States
END:VEVENT
BEGIN:VEVENT
DTSTART;TZID=America/New_York:20271129T093000
DTEND;TZID=America/New_York:20271129T113000
DTSTAMP:20260425T075538
CREATED:20260211T173242Z
LAST-MODIFIED:20260211T173455Z
UID:10000897-1827480600-1827487800@friendshiphall.org
SUMMARY:AA Meeting
DESCRIPTION:
URL:https://friendshiphall.org/event/aa-meeting/2027-11-29/
LOCATION:Friendship Hall\, 83 Old Main Street\, Marshfield Hills\, MA\, 02051\, United States
END:VEVENT
BEGIN:VEVENT
DTSTART;TZID=America/New_York:20271202T093000
DTEND;TZID=America/New_York:20271202T113000
DTSTAMP:20260425T075538
CREATED:20260320T161938Z
LAST-MODIFIED:20260320T162541Z
UID:10003066-1827739800-1827747000@friendshiphall.org
SUMMARY:AA Meeting
DESCRIPTION:
URL:https://friendshiphall.org/event/aa-meeting-2/2027-12-02/
LOCATION:Friendship Hall\, 83 Old Main Street\, Marshfield Hills\, MA\, 02051\, United States
END:VEVENT
BEGIN:VEVENT
DTSTART;TZID=America/New_York:20271203T183000
DTEND;TZID=America/New_York:20271203T203000
DTSTAMP:20260425T075538
CREATED:20260320T162649Z
LAST-MODIFIED:20260320T162822Z
UID:10003328-1827858600-1827865800@friendshiphall.org
SUMMARY:AA Meeting
DESCRIPTION:
URL:https://friendshiphall.org/event/aa-meeting-3/2027-12-03/
LOCATION:Friendship Hall\, 83 Old Main Street\, Marshfield Hills\, MA\, 02051\, United States
END:VEVENT
BEGIN:VEVENT
DTSTART;TZID=America/New_York:20271205T173000
DTEND;TZID=America/New_York:20271205T193000
DTSTAMP:20260425T075538
CREATED:20260320T163124Z
LAST-MODIFIED:20260320T163327Z
UID:10003590-1828027800-1828035000@friendshiphall.org
SUMMARY:AA Meeting
DESCRIPTION:
URL:https://friendshiphall.org/event/aa-meeting-4/2027-12-05/
LOCATION:Friendship Hall\, 83 Old Main Street\, Marshfield Hills\, MA\, 02051\, United States
END:VEVENT
BEGIN:VEVENT
DTSTART;TZID=America/New_York:20271206T093000
DTEND;TZID=America/New_York:20271206T113000
DTSTAMP:20260425T075538
CREATED:20260211T173242Z
LAST-MODIFIED:20260211T173455Z
UID:10000898-1828085400-1828092600@friendshiphall.org
SUMMARY:AA Meeting
DESCRIPTION:
URL:https://friendshiphall.org/event/aa-meeting/2027-12-06/
LOCATION:Friendship Hall\, 83 Old Main Street\, Marshfield Hills\, MA\, 02051\, United States
END:VEVENT
BEGIN:VEVENT
DTSTART;TZID=America/New_York:20271209T093000
DTEND;TZID=America/New_York:20271209T113000
DTSTAMP:20260425T075538
CREATED:20260320T161938Z
LAST-MODIFIED:20260320T162541Z
UID:10003067-1828344600-1828351800@friendshiphall.org
SUMMARY:AA Meeting
DESCRIPTION:
URL:https://friendshiphall.org/event/aa-meeting-2/2027-12-09/
LOCATION:Friendship Hall\, 83 Old Main Street\, Marshfield Hills\, MA\, 02051\, United States
END:VEVENT
BEGIN:VEVENT
DTSTART;TZID=America/New_York:20271210T183000
DTEND;TZID=America/New_York:20271210T203000
DTSTAMP:20260425T075538
CREATED:20260320T162649Z
LAST-MODIFIED:20260320T162822Z
UID:10003329-1828463400-1828470600@friendshiphall.org
SUMMARY:AA Meeting
DESCRIPTION:
URL:https://friendshiphall.org/event/aa-meeting-3/2027-12-10/
LOCATION:Friendship Hall\, 83 Old Main Street\, Marshfield Hills\, MA\, 02051\, United States
END:VEVENT
BEGIN:VEVENT
DTSTART;TZID=America/New_York:20271212T173000
DTEND;TZID=America/New_York:20271212T193000
DTSTAMP:20260425T075538
CREATED:20260320T163124Z
LAST-MODIFIED:20260320T163327Z
UID:10003591-1828632600-1828639800@friendshiphall.org
SUMMARY:AA Meeting
DESCRIPTION:
URL:https://friendshiphall.org/event/aa-meeting-4/2027-12-12/
LOCATION:Friendship Hall\, 83 Old Main Street\, Marshfield Hills\, MA\, 02051\, United States
END:VEVENT
BEGIN:VEVENT
DTSTART;TZID=America/New_York:20271213T093000
DTEND;TZID=America/New_York:20271213T113000
DTSTAMP:20260425T075538
CREATED:20260211T173242Z
LAST-MODIFIED:20260211T173455Z
UID:10000899-1828690200-1828697400@friendshiphall.org
SUMMARY:AA Meeting
DESCRIPTION:
URL:https://friendshiphall.org/event/aa-meeting/2027-12-13/
LOCATION:Friendship Hall\, 83 Old Main Street\, Marshfield Hills\, MA\, 02051\, United States
END:VEVENT
BEGIN:VEVENT
DTSTART;TZID=America/New_York:20271216T093000
DTEND;TZID=America/New_York:20271216T113000
DTSTAMP:20260425T075538
CREATED:20260320T161938Z
LAST-MODIFIED:20260320T162541Z
UID:10003068-1828949400-1828956600@friendshiphall.org
SUMMARY:AA Meeting
DESCRIPTION:
URL:https://friendshiphall.org/event/aa-meeting-2/2027-12-16/
LOCATION:Friendship Hall\, 83 Old Main Street\, Marshfield Hills\, MA\, 02051\, United States
END:VEVENT
BEGIN:VEVENT
DTSTART;TZID=America/New_York:20271217T183000
DTEND;TZID=America/New_York:20271217T203000
DTSTAMP:20260425T075538
CREATED:20260320T162649Z
LAST-MODIFIED:20260320T162822Z
UID:10003330-1829068200-1829075400@friendshiphall.org
SUMMARY:AA Meeting
DESCRIPTION:
URL:https://friendshiphall.org/event/aa-meeting-3/2027-12-17/
LOCATION:Friendship Hall\, 83 Old Main Street\, Marshfield Hills\, MA\, 02051\, United States
END:VEVENT
BEGIN:VEVENT
DTSTART;TZID=America/New_York:20271219T173000
DTEND;TZID=America/New_York:20271219T193000
DTSTAMP:20260425T075538
CREATED:20260320T163124Z
LAST-MODIFIED:20260320T163327Z
UID:10003592-1829237400-1829244600@friendshiphall.org
SUMMARY:AA Meeting
DESCRIPTION:
URL:https://friendshiphall.org/event/aa-meeting-4/2027-12-19/
LOCATION:Friendship Hall\, 83 Old Main Street\, Marshfield Hills\, MA\, 02051\, United States
END:VEVENT
BEGIN:VEVENT
DTSTART;TZID=America/New_York:20271220T093000
DTEND;TZID=America/New_York:20271220T113000
DTSTAMP:20260425T075538
CREATED:20260211T173242Z
LAST-MODIFIED:20260211T173455Z
UID:10000900-1829295000-1829302200@friendshiphall.org
SUMMARY:AA Meeting
DESCRIPTION:
URL:https://friendshiphall.org/event/aa-meeting/2027-12-20/
LOCATION:Friendship Hall\, 83 Old Main Street\, Marshfield Hills\, MA\, 02051\, United States
END:VEVENT
BEGIN:VEVENT
DTSTART;TZID=America/New_York:20271223T093000
DTEND;TZID=America/New_York:20271223T113000
DTSTAMP:20260425T075538
CREATED:20260320T161938Z
LAST-MODIFIED:20260320T162541Z
UID:10003069-1829554200-1829561400@friendshiphall.org
SUMMARY:AA Meeting
DESCRIPTION:
URL:https://friendshiphall.org/event/aa-meeting-2/2027-12-23/
LOCATION:Friendship Hall\, 83 Old Main Street\, Marshfield Hills\, MA\, 02051\, United States
END:VEVENT
BEGIN:VEVENT
DTSTART;TZID=America/New_York:20271224T183000
DTEND;TZID=America/New_York:20271224T203000
DTSTAMP:20260425T075538
CREATED:20260320T162649Z
LAST-MODIFIED:20260320T162822Z
UID:10003331-1829673000-1829680200@friendshiphall.org
SUMMARY:AA Meeting
DESCRIPTION:
URL:https://friendshiphall.org/event/aa-meeting-3/2027-12-24/
LOCATION:Friendship Hall\, 83 Old Main Street\, Marshfield Hills\, MA\, 02051\, United States
END:VEVENT
BEGIN:VEVENT
DTSTART;TZID=America/New_York:20271226T173000
DTEND;TZID=America/New_York:20271226T193000
DTSTAMP:20260425T075538
CREATED:20260320T163124Z
LAST-MODIFIED:20260320T163327Z
UID:10003593-1829842200-1829849400@friendshiphall.org
SUMMARY:AA Meeting
DESCRIPTION:
URL:https://friendshiphall.org/event/aa-meeting-4/2027-12-26/
LOCATION:Friendship Hall\, 83 Old Main Street\, Marshfield Hills\, MA\, 02051\, United States
END:VEVENT
BEGIN:VEVENT
DTSTART;TZID=America/New_York:20271227T093000
DTEND;TZID=America/New_York:20271227T113000
DTSTAMP:20260425T075538
CREATED:20260211T173242Z
LAST-MODIFIED:20260211T173455Z
UID:10000901-1829899800-1829907000@friendshiphall.org
SUMMARY:AA Meeting
DESCRIPTION:
URL:https://friendshiphall.org/event/aa-meeting/2027-12-27/
LOCATION:Friendship Hall\, 83 Old Main Street\, Marshfield Hills\, MA\, 02051\, United States
END:VEVENT
BEGIN:VEVENT
DTSTART;TZID=America/New_York:20271230T093000
DTEND;TZID=America/New_York:20271230T113000
DTSTAMP:20260425T075538
CREATED:20260320T161938Z
LAST-MODIFIED:20260320T162541Z
UID:10003070-1830159000-1830166200@friendshiphall.org
SUMMARY:AA Meeting
DESCRIPTION:
URL:https://friendshiphall.org/event/aa-meeting-2/2027-12-30/
LOCATION:Friendship Hall\, 83 Old Main Street\, Marshfield Hills\, MA\, 02051\, United States
END:VEVENT
BEGIN:VEVENT
DTSTART;TZID=America/New_York:20271231T183000
DTEND;TZID=America/New_York:20271231T203000
DTSTAMP:20260425T075538
CREATED:20260320T162649Z
LAST-MODIFIED:20260320T162822Z
UID:10003332-1830277800-1830285000@friendshiphall.org
SUMMARY:AA Meeting
DESCRIPTION:
URL:https://friendshiphall.org/event/aa-meeting-3/2027-12-31/
LOCATION:Friendship Hall\, 83 Old Main Street\, Marshfield Hills\, MA\, 02051\, United States
END:VEVENT
BEGIN:VEVENT
DTSTART;TZID=America/New_York:20280102T173000
DTEND;TZID=America/New_York:20280102T193000
DTSTAMP:20260425T075538
CREATED:20260320T163124Z
LAST-MODIFIED:20260320T163327Z
UID:10003594-1830447000-1830454200@friendshiphall.org
SUMMARY:AA Meeting
DESCRIPTION:
URL:https://friendshiphall.org/event/aa-meeting-4/2028-01-02/
LOCATION:Friendship Hall\, 83 Old Main Street\, Marshfield Hills\, MA\, 02051\, United States
END:VEVENT
BEGIN:VEVENT
DTSTART;TZID=America/New_York:20280103T093000
DTEND;TZID=America/New_York:20280103T113000
DTSTAMP:20260425T075538
CREATED:20260211T173242Z
LAST-MODIFIED:20260211T173455Z
UID:10000902-1830504600-1830511800@friendshiphall.org
SUMMARY:AA Meeting
DESCRIPTION:
URL:https://friendshiphall.org/event/aa-meeting/2028-01-03/
LOCATION:Friendship Hall\, 83 Old Main Street\, Marshfield Hills\, MA\, 02051\, United States
END:VEVENT
END:VCALENDAR