BEGIN:VCALENDAR
VERSION:2.0
PRODID:-//Friendship Hall - ECPv6.15.20//NONSGML v1.0//EN
CALSCALE:GREGORIAN
METHOD:PUBLISH
X-ORIGINAL-URL:https://friendshiphall.org
X-WR-CALDESC:Events for Friendship Hall
REFRESH-INTERVAL;VALUE=DURATION:PT1H
X-Robots-Tag:noindex
X-PUBLISHED-TTL:PT1H
BEGIN:VTIMEZONE
TZID:America/New_York
BEGIN:DAYLIGHT
TZOFFSETFROM:-0500
TZOFFSETTO:-0400
TZNAME:EDT
DTSTART:20260308T070000
END:DAYLIGHT
BEGIN:STANDARD
TZOFFSETFROM:-0400
TZOFFSETTO:-0500
TZNAME:EST
DTSTART:20261101T060000
END:STANDARD
BEGIN:DAYLIGHT
TZOFFSETFROM:-0500
TZOFFSETTO:-0400
TZNAME:EDT
DTSTART:20270314T070000
END:DAYLIGHT
BEGIN:STANDARD
TZOFFSETFROM:-0400
TZOFFSETTO:-0500
TZNAME:EST
DTSTART:20271107T060000
END:STANDARD
BEGIN:DAYLIGHT
TZOFFSETFROM:-0500
TZOFFSETTO:-0400
TZNAME:EDT
DTSTART:20280312T070000
END:DAYLIGHT
BEGIN:STANDARD
TZOFFSETFROM:-0400
TZOFFSETTO:-0500
TZNAME:EST
DTSTART:20281105T060000
END:STANDARD
END:VTIMEZONE
BEGIN:VEVENT
DTSTART;TZID=America/New_York:20271014T093000
DTEND;TZID=America/New_York:20271014T113000
DTSTAMP:20260420T212837
CREATED:20260320T161938Z
LAST-MODIFIED:20260320T162541Z
UID:10003059-1823506200-1823513400@friendshiphall.org
SUMMARY:AA Meeting
DESCRIPTION:
URL:https://friendshiphall.org/event/aa-meeting-2/2027-10-14/
LOCATION:Friendship Hall\, 83 Old Main Street\, Marshfield Hills\, MA\, 02051\, United States
END:VEVENT
BEGIN:VEVENT
DTSTART;TZID=America/New_York:20271015T183000
DTEND;TZID=America/New_York:20271015T203000
DTSTAMP:20260420T212837
CREATED:20260320T162649Z
LAST-MODIFIED:20260320T162822Z
UID:10003321-1823625000-1823632200@friendshiphall.org
SUMMARY:AA Meeting
DESCRIPTION:
URL:https://friendshiphall.org/event/aa-meeting-3/2027-10-15/
LOCATION:Friendship Hall\, 83 Old Main Street\, Marshfield Hills\, MA\, 02051\, United States
END:VEVENT
BEGIN:VEVENT
DTSTART;TZID=America/New_York:20271017T173000
DTEND;TZID=America/New_York:20271017T193000
DTSTAMP:20260420T212837
CREATED:20260320T163124Z
LAST-MODIFIED:20260320T163327Z
UID:10003583-1823794200-1823801400@friendshiphall.org
SUMMARY:AA Meeting
DESCRIPTION:
URL:https://friendshiphall.org/event/aa-meeting-4/2027-10-17/
LOCATION:Friendship Hall\, 83 Old Main Street\, Marshfield Hills\, MA\, 02051\, United States
END:VEVENT
BEGIN:VEVENT
DTSTART;TZID=America/New_York:20271018T093000
DTEND;TZID=America/New_York:20271018T113000
DTSTAMP:20260420T212837
CREATED:20260211T173242Z
LAST-MODIFIED:20260211T173455Z
UID:10000891-1823851800-1823859000@friendshiphall.org
SUMMARY:AA Meeting
DESCRIPTION:
URL:https://friendshiphall.org/event/aa-meeting/2027-10-18/
LOCATION:Friendship Hall\, 83 Old Main Street\, Marshfield Hills\, MA\, 02051\, United States
END:VEVENT
BEGIN:VEVENT
DTSTART;TZID=America/New_York:20271021T093000
DTEND;TZID=America/New_York:20271021T113000
DTSTAMP:20260420T212837
CREATED:20260320T161938Z
LAST-MODIFIED:20260320T162541Z
UID:10003060-1824111000-1824118200@friendshiphall.org
SUMMARY:AA Meeting
DESCRIPTION:
URL:https://friendshiphall.org/event/aa-meeting-2/2027-10-21/
LOCATION:Friendship Hall\, 83 Old Main Street\, Marshfield Hills\, MA\, 02051\, United States
END:VEVENT
BEGIN:VEVENT
DTSTART;TZID=America/New_York:20271022T183000
DTEND;TZID=America/New_York:20271022T203000
DTSTAMP:20260420T212837
CREATED:20260320T162649Z
LAST-MODIFIED:20260320T162822Z
UID:10003322-1824229800-1824237000@friendshiphall.org
SUMMARY:AA Meeting
DESCRIPTION:
URL:https://friendshiphall.org/event/aa-meeting-3/2027-10-22/
LOCATION:Friendship Hall\, 83 Old Main Street\, Marshfield Hills\, MA\, 02051\, United States
END:VEVENT
BEGIN:VEVENT
DTSTART;TZID=America/New_York:20271024T173000
DTEND;TZID=America/New_York:20271024T193000
DTSTAMP:20260420T212837
CREATED:20260320T163124Z
LAST-MODIFIED:20260320T163327Z
UID:10003584-1824399000-1824406200@friendshiphall.org
SUMMARY:AA Meeting
DESCRIPTION:
URL:https://friendshiphall.org/event/aa-meeting-4/2027-10-24/
LOCATION:Friendship Hall\, 83 Old Main Street\, Marshfield Hills\, MA\, 02051\, United States
END:VEVENT
BEGIN:VEVENT
DTSTART;TZID=America/New_York:20271025T093000
DTEND;TZID=America/New_York:20271025T113000
DTSTAMP:20260420T212837
CREATED:20260211T173242Z
LAST-MODIFIED:20260211T173455Z
UID:10000892-1824456600-1824463800@friendshiphall.org
SUMMARY:AA Meeting
DESCRIPTION:
URL:https://friendshiphall.org/event/aa-meeting/2027-10-25/
LOCATION:Friendship Hall\, 83 Old Main Street\, Marshfield Hills\, MA\, 02051\, United States
END:VEVENT
BEGIN:VEVENT
DTSTART;TZID=America/New_York:20271028T093000
DTEND;TZID=America/New_York:20271028T113000
DTSTAMP:20260420T212837
CREATED:20260320T161938Z
LAST-MODIFIED:20260320T162541Z
UID:10003061-1824715800-1824723000@friendshiphall.org
SUMMARY:AA Meeting
DESCRIPTION:
URL:https://friendshiphall.org/event/aa-meeting-2/2027-10-28/
LOCATION:Friendship Hall\, 83 Old Main Street\, Marshfield Hills\, MA\, 02051\, United States
END:VEVENT
BEGIN:VEVENT
DTSTART;TZID=America/New_York:20271029T183000
DTEND;TZID=America/New_York:20271029T203000
DTSTAMP:20260420T212837
CREATED:20260320T162649Z
LAST-MODIFIED:20260320T162822Z
UID:10003323-1824834600-1824841800@friendshiphall.org
SUMMARY:AA Meeting
DESCRIPTION:
URL:https://friendshiphall.org/event/aa-meeting-3/2027-10-29/
LOCATION:Friendship Hall\, 83 Old Main Street\, Marshfield Hills\, MA\, 02051\, United States
END:VEVENT
BEGIN:VEVENT
DTSTART;TZID=America/New_York:20271031T173000
DTEND;TZID=America/New_York:20271031T193000
DTSTAMP:20260420T212837
CREATED:20260320T163124Z
LAST-MODIFIED:20260320T163327Z
UID:10003585-1825003800-1825011000@friendshiphall.org
SUMMARY:AA Meeting
DESCRIPTION:
URL:https://friendshiphall.org/event/aa-meeting-4/2027-10-31/
LOCATION:Friendship Hall\, 83 Old Main Street\, Marshfield Hills\, MA\, 02051\, United States
END:VEVENT
BEGIN:VEVENT
DTSTART;TZID=America/New_York:20271101T093000
DTEND;TZID=America/New_York:20271101T113000
DTSTAMP:20260420T212837
CREATED:20260211T173242Z
LAST-MODIFIED:20260211T173455Z
UID:10000893-1825061400-1825068600@friendshiphall.org
SUMMARY:AA Meeting
DESCRIPTION:
URL:https://friendshiphall.org/event/aa-meeting/2027-11-01/
LOCATION:Friendship Hall\, 83 Old Main Street\, Marshfield Hills\, MA\, 02051\, United States
END:VEVENT
BEGIN:VEVENT
DTSTART;TZID=America/New_York:20271104T093000
DTEND;TZID=America/New_York:20271104T113000
DTSTAMP:20260420T212837
CREATED:20260320T161938Z
LAST-MODIFIED:20260320T162541Z
UID:10003062-1825320600-1825327800@friendshiphall.org
SUMMARY:AA Meeting
DESCRIPTION:
URL:https://friendshiphall.org/event/aa-meeting-2/2027-11-04/
LOCATION:Friendship Hall\, 83 Old Main Street\, Marshfield Hills\, MA\, 02051\, United States
END:VEVENT
BEGIN:VEVENT
DTSTART;TZID=America/New_York:20271105T183000
DTEND;TZID=America/New_York:20271105T203000
DTSTAMP:20260420T212837
CREATED:20260320T162649Z
LAST-MODIFIED:20260320T162822Z
UID:10003324-1825439400-1825446600@friendshiphall.org
SUMMARY:AA Meeting
DESCRIPTION:
URL:https://friendshiphall.org/event/aa-meeting-3/2027-11-05/
LOCATION:Friendship Hall\, 83 Old Main Street\, Marshfield Hills\, MA\, 02051\, United States
END:VEVENT
BEGIN:VEVENT
DTSTART;TZID=America/New_York:20271107T173000
DTEND;TZID=America/New_York:20271107T193000
DTSTAMP:20260420T212837
CREATED:20260320T163124Z
LAST-MODIFIED:20260320T163327Z
UID:10003586-1825608600-1825615800@friendshiphall.org
SUMMARY:AA Meeting
DESCRIPTION:
URL:https://friendshiphall.org/event/aa-meeting-4/2027-11-07/
LOCATION:Friendship Hall\, 83 Old Main Street\, Marshfield Hills\, MA\, 02051\, United States
END:VEVENT
BEGIN:VEVENT
DTSTART;TZID=America/New_York:20271108T093000
DTEND;TZID=America/New_York:20271108T113000
DTSTAMP:20260420T212837
CREATED:20260211T173242Z
LAST-MODIFIED:20260211T173455Z
UID:10000894-1825666200-1825673400@friendshiphall.org
SUMMARY:AA Meeting
DESCRIPTION:
URL:https://friendshiphall.org/event/aa-meeting/2027-11-08/
LOCATION:Friendship Hall\, 83 Old Main Street\, Marshfield Hills\, MA\, 02051\, United States
END:VEVENT
BEGIN:VEVENT
DTSTART;TZID=America/New_York:20271111T093000
DTEND;TZID=America/New_York:20271111T113000
DTSTAMP:20260420T212837
CREATED:20260320T161938Z
LAST-MODIFIED:20260320T162541Z
UID:10003063-1825925400-1825932600@friendshiphall.org
SUMMARY:AA Meeting
DESCRIPTION:
URL:https://friendshiphall.org/event/aa-meeting-2/2027-11-11/
LOCATION:Friendship Hall\, 83 Old Main Street\, Marshfield Hills\, MA\, 02051\, United States
END:VEVENT
BEGIN:VEVENT
DTSTART;TZID=America/New_York:20271112T183000
DTEND;TZID=America/New_York:20271112T203000
DTSTAMP:20260420T212837
CREATED:20260320T162649Z
LAST-MODIFIED:20260320T162822Z
UID:10003325-1826044200-1826051400@friendshiphall.org
SUMMARY:AA Meeting
DESCRIPTION:
URL:https://friendshiphall.org/event/aa-meeting-3/2027-11-12/
LOCATION:Friendship Hall\, 83 Old Main Street\, Marshfield Hills\, MA\, 02051\, United States
END:VEVENT
BEGIN:VEVENT
DTSTART;TZID=America/New_York:20271114T173000
DTEND;TZID=America/New_York:20271114T193000
DTSTAMP:20260420T212837
CREATED:20260320T163124Z
LAST-MODIFIED:20260320T163327Z
UID:10003587-1826213400-1826220600@friendshiphall.org
SUMMARY:AA Meeting
DESCRIPTION:
URL:https://friendshiphall.org/event/aa-meeting-4/2027-11-14/
LOCATION:Friendship Hall\, 83 Old Main Street\, Marshfield Hills\, MA\, 02051\, United States
END:VEVENT
BEGIN:VEVENT
DTSTART;TZID=America/New_York:20271115T093000
DTEND;TZID=America/New_York:20271115T113000
DTSTAMP:20260420T212837
CREATED:20260211T173242Z
LAST-MODIFIED:20260211T173455Z
UID:10000895-1826271000-1826278200@friendshiphall.org
SUMMARY:AA Meeting
DESCRIPTION:
URL:https://friendshiphall.org/event/aa-meeting/2027-11-15/
LOCATION:Friendship Hall\, 83 Old Main Street\, Marshfield Hills\, MA\, 02051\, United States
END:VEVENT
BEGIN:VEVENT
DTSTART;TZID=America/New_York:20271118T093000
DTEND;TZID=America/New_York:20271118T113000
DTSTAMP:20260420T212837
CREATED:20260320T161938Z
LAST-MODIFIED:20260320T162541Z
UID:10003064-1826530200-1826537400@friendshiphall.org
SUMMARY:AA Meeting
DESCRIPTION:
URL:https://friendshiphall.org/event/aa-meeting-2/2027-11-18/
LOCATION:Friendship Hall\, 83 Old Main Street\, Marshfield Hills\, MA\, 02051\, United States
END:VEVENT
BEGIN:VEVENT
DTSTART;TZID=America/New_York:20271119T183000
DTEND;TZID=America/New_York:20271119T203000
DTSTAMP:20260420T212837
CREATED:20260320T162649Z
LAST-MODIFIED:20260320T162822Z
UID:10003326-1826649000-1826656200@friendshiphall.org
SUMMARY:AA Meeting
DESCRIPTION:
URL:https://friendshiphall.org/event/aa-meeting-3/2027-11-19/
LOCATION:Friendship Hall\, 83 Old Main Street\, Marshfield Hills\, MA\, 02051\, United States
END:VEVENT
BEGIN:VEVENT
DTSTART;TZID=America/New_York:20271121T173000
DTEND;TZID=America/New_York:20271121T193000
DTSTAMP:20260420T212837
CREATED:20260320T163124Z
LAST-MODIFIED:20260320T163327Z
UID:10003588-1826818200-1826825400@friendshiphall.org
SUMMARY:AA Meeting
DESCRIPTION:
URL:https://friendshiphall.org/event/aa-meeting-4/2027-11-21/
LOCATION:Friendship Hall\, 83 Old Main Street\, Marshfield Hills\, MA\, 02051\, United States
END:VEVENT
BEGIN:VEVENT
DTSTART;TZID=America/New_York:20271122T093000
DTEND;TZID=America/New_York:20271122T113000
DTSTAMP:20260420T212837
CREATED:20260211T173242Z
LAST-MODIFIED:20260211T173455Z
UID:10000896-1826875800-1826883000@friendshiphall.org
SUMMARY:AA Meeting
DESCRIPTION:
URL:https://friendshiphall.org/event/aa-meeting/2027-11-22/
LOCATION:Friendship Hall\, 83 Old Main Street\, Marshfield Hills\, MA\, 02051\, United States
END:VEVENT
BEGIN:VEVENT
DTSTART;TZID=America/New_York:20271125T093000
DTEND;TZID=America/New_York:20271125T113000
DTSTAMP:20260420T212837
CREATED:20260320T161938Z
LAST-MODIFIED:20260320T162541Z
UID:10003065-1827135000-1827142200@friendshiphall.org
SUMMARY:AA Meeting
DESCRIPTION:
URL:https://friendshiphall.org/event/aa-meeting-2/2027-11-25/
LOCATION:Friendship Hall\, 83 Old Main Street\, Marshfield Hills\, MA\, 02051\, United States
END:VEVENT
BEGIN:VEVENT
DTSTART;TZID=America/New_York:20271126T183000
DTEND;TZID=America/New_York:20271126T203000
DTSTAMP:20260420T212837
CREATED:20260320T162649Z
LAST-MODIFIED:20260320T162822Z
UID:10003327-1827253800-1827261000@friendshiphall.org
SUMMARY:AA Meeting
DESCRIPTION:
URL:https://friendshiphall.org/event/aa-meeting-3/2027-11-26/
LOCATION:Friendship Hall\, 83 Old Main Street\, Marshfield Hills\, MA\, 02051\, United States
END:VEVENT
BEGIN:VEVENT
DTSTART;TZID=America/New_York:20271128T173000
DTEND;TZID=America/New_York:20271128T193000
DTSTAMP:20260420T212837
CREATED:20260320T163124Z
LAST-MODIFIED:20260320T163327Z
UID:10003589-1827423000-1827430200@friendshiphall.org
SUMMARY:AA Meeting
DESCRIPTION:
URL:https://friendshiphall.org/event/aa-meeting-4/2027-11-28/
LOCATION:Friendship Hall\, 83 Old Main Street\, Marshfield Hills\, MA\, 02051\, United States
END:VEVENT
BEGIN:VEVENT
DTSTART;TZID=America/New_York:20271129T093000
DTEND;TZID=America/New_York:20271129T113000
DTSTAMP:20260420T212837
CREATED:20260211T173242Z
LAST-MODIFIED:20260211T173455Z
UID:10000897-1827480600-1827487800@friendshiphall.org
SUMMARY:AA Meeting
DESCRIPTION:
URL:https://friendshiphall.org/event/aa-meeting/2027-11-29/
LOCATION:Friendship Hall\, 83 Old Main Street\, Marshfield Hills\, MA\, 02051\, United States
END:VEVENT
BEGIN:VEVENT
DTSTART;TZID=America/New_York:20271202T093000
DTEND;TZID=America/New_York:20271202T113000
DTSTAMP:20260420T212837
CREATED:20260320T161938Z
LAST-MODIFIED:20260320T162541Z
UID:10003066-1827739800-1827747000@friendshiphall.org
SUMMARY:AA Meeting
DESCRIPTION:
URL:https://friendshiphall.org/event/aa-meeting-2/2027-12-02/
LOCATION:Friendship Hall\, 83 Old Main Street\, Marshfield Hills\, MA\, 02051\, United States
END:VEVENT
BEGIN:VEVENT
DTSTART;TZID=America/New_York:20271203T183000
DTEND;TZID=America/New_York:20271203T203000
DTSTAMP:20260420T212837
CREATED:20260320T162649Z
LAST-MODIFIED:20260320T162822Z
UID:10003328-1827858600-1827865800@friendshiphall.org
SUMMARY:AA Meeting
DESCRIPTION:
URL:https://friendshiphall.org/event/aa-meeting-3/2027-12-03/
LOCATION:Friendship Hall\, 83 Old Main Street\, Marshfield Hills\, MA\, 02051\, United States
END:VEVENT
END:VCALENDAR