BEGIN:VCALENDAR
VERSION:2.0
PRODID:-//Friendship Hall - ECPv6.15.20//NONSGML v1.0//EN
CALSCALE:GREGORIAN
METHOD:PUBLISH
X-ORIGINAL-URL:https://friendshiphall.org
X-WR-CALDESC:Events for Friendship Hall
REFRESH-INTERVAL;VALUE=DURATION:PT1H
X-Robots-Tag:noindex
X-PUBLISHED-TTL:PT1H
BEGIN:VTIMEZONE
TZID:America/New_York
BEGIN:DAYLIGHT
TZOFFSETFROM:-0500
TZOFFSETTO:-0400
TZNAME:EDT
DTSTART:20290311T070000
END:DAYLIGHT
BEGIN:STANDARD
TZOFFSETFROM:-0400
TZOFFSETTO:-0500
TZNAME:EST
DTSTART:20291104T060000
END:STANDARD
BEGIN:DAYLIGHT
TZOFFSETFROM:-0500
TZOFFSETTO:-0400
TZNAME:EDT
DTSTART:20300310T070000
END:DAYLIGHT
BEGIN:STANDARD
TZOFFSETFROM:-0400
TZOFFSETTO:-0500
TZNAME:EST
DTSTART:20301103T060000
END:STANDARD
BEGIN:DAYLIGHT
TZOFFSETFROM:-0500
TZOFFSETTO:-0400
TZNAME:EDT
DTSTART:20310309T070000
END:DAYLIGHT
BEGIN:STANDARD
TZOFFSETFROM:-0400
TZOFFSETTO:-0500
TZNAME:EST
DTSTART:20311102T060000
END:STANDARD
END:VTIMEZONE
BEGIN:VEVENT
DTSTART;TZID=America/New_York:20300915T173000
DTEND;TZID=America/New_York:20300915T193000
DTSTAMP:20260421T214116
CREATED:20260320T163124Z
LAST-MODIFIED:20260320T163327Z
UID:10003735-1915723800-1915731000@friendshiphall.org
SUMMARY:AA Meeting
DESCRIPTION:
URL:https://friendshiphall.org/event/aa-meeting-4/2030-09-15/
LOCATION:Friendship Hall\, 83 Old Main Street\, Marshfield Hills\, MA\, 02051\, United States
END:VEVENT
BEGIN:VEVENT
DTSTART;TZID=America/New_York:20300916T093000
DTEND;TZID=America/New_York:20300916T113000
DTSTAMP:20260421T214116
CREATED:20260211T173242Z
LAST-MODIFIED:20260211T173455Z
UID:10001043-1915781400-1915788600@friendshiphall.org
SUMMARY:AA Meeting
DESCRIPTION:
URL:https://friendshiphall.org/event/aa-meeting/2030-09-16/
LOCATION:Friendship Hall\, 83 Old Main Street\, Marshfield Hills\, MA\, 02051\, United States
END:VEVENT
BEGIN:VEVENT
DTSTART;TZID=America/New_York:20300919T093000
DTEND;TZID=America/New_York:20300919T113000
DTSTAMP:20260421T214116
CREATED:20260320T161938Z
LAST-MODIFIED:20260320T162541Z
UID:10003212-1916040600-1916047800@friendshiphall.org
SUMMARY:AA Meeting
DESCRIPTION:
URL:https://friendshiphall.org/event/aa-meeting-2/2030-09-19/
LOCATION:Friendship Hall\, 83 Old Main Street\, Marshfield Hills\, MA\, 02051\, United States
END:VEVENT
BEGIN:VEVENT
DTSTART;TZID=America/New_York:20300920T183000
DTEND;TZID=America/New_York:20300920T203000
DTSTAMP:20260421T214116
CREATED:20260320T162649Z
LAST-MODIFIED:20260320T162822Z
UID:10003474-1916159400-1916166600@friendshiphall.org
SUMMARY:AA Meeting
DESCRIPTION:
URL:https://friendshiphall.org/event/aa-meeting-3/2030-09-20/
LOCATION:Friendship Hall\, 83 Old Main Street\, Marshfield Hills\, MA\, 02051\, United States
END:VEVENT
BEGIN:VEVENT
DTSTART;TZID=America/New_York:20300922T173000
DTEND;TZID=America/New_York:20300922T193000
DTSTAMP:20260421T214116
CREATED:20260320T163124Z
LAST-MODIFIED:20260320T163327Z
UID:10003736-1916328600-1916335800@friendshiphall.org
SUMMARY:AA Meeting
DESCRIPTION:
URL:https://friendshiphall.org/event/aa-meeting-4/2030-09-22/
LOCATION:Friendship Hall\, 83 Old Main Street\, Marshfield Hills\, MA\, 02051\, United States
END:VEVENT
BEGIN:VEVENT
DTSTART;TZID=America/New_York:20300923T093000
DTEND;TZID=America/New_York:20300923T113000
DTSTAMP:20260421T214116
CREATED:20260211T173242Z
LAST-MODIFIED:20260211T173455Z
UID:10001044-1916386200-1916393400@friendshiphall.org
SUMMARY:AA Meeting
DESCRIPTION:
URL:https://friendshiphall.org/event/aa-meeting/2030-09-23/
LOCATION:Friendship Hall\, 83 Old Main Street\, Marshfield Hills\, MA\, 02051\, United States
END:VEVENT
BEGIN:VEVENT
DTSTART;TZID=America/New_York:20300926T093000
DTEND;TZID=America/New_York:20300926T113000
DTSTAMP:20260421T214116
CREATED:20260320T161938Z
LAST-MODIFIED:20260320T162541Z
UID:10003213-1916645400-1916652600@friendshiphall.org
SUMMARY:AA Meeting
DESCRIPTION:
URL:https://friendshiphall.org/event/aa-meeting-2/2030-09-26/
LOCATION:Friendship Hall\, 83 Old Main Street\, Marshfield Hills\, MA\, 02051\, United States
END:VEVENT
BEGIN:VEVENT
DTSTART;TZID=America/New_York:20300927T183000
DTEND;TZID=America/New_York:20300927T203000
DTSTAMP:20260421T214116
CREATED:20260320T162649Z
LAST-MODIFIED:20260320T162822Z
UID:10003475-1916764200-1916771400@friendshiphall.org
SUMMARY:AA Meeting
DESCRIPTION:
URL:https://friendshiphall.org/event/aa-meeting-3/2030-09-27/
LOCATION:Friendship Hall\, 83 Old Main Street\, Marshfield Hills\, MA\, 02051\, United States
END:VEVENT
BEGIN:VEVENT
DTSTART;TZID=America/New_York:20300929T173000
DTEND;TZID=America/New_York:20300929T193000
DTSTAMP:20260421T214116
CREATED:20260320T163124Z
LAST-MODIFIED:20260320T163327Z
UID:10003737-1916933400-1916940600@friendshiphall.org
SUMMARY:AA Meeting
DESCRIPTION:
URL:https://friendshiphall.org/event/aa-meeting-4/2030-09-29/
LOCATION:Friendship Hall\, 83 Old Main Street\, Marshfield Hills\, MA\, 02051\, United States
END:VEVENT
BEGIN:VEVENT
DTSTART;TZID=America/New_York:20300930T093000
DTEND;TZID=America/New_York:20300930T113000
DTSTAMP:20260421T214116
CREATED:20260211T173242Z
LAST-MODIFIED:20260211T173455Z
UID:10001045-1916991000-1916998200@friendshiphall.org
SUMMARY:AA Meeting
DESCRIPTION:
URL:https://friendshiphall.org/event/aa-meeting/2030-09-30/
LOCATION:Friendship Hall\, 83 Old Main Street\, Marshfield Hills\, MA\, 02051\, United States
END:VEVENT
BEGIN:VEVENT
DTSTART;TZID=America/New_York:20301003T093000
DTEND;TZID=America/New_York:20301003T113000
DTSTAMP:20260421T214116
CREATED:20260320T161938Z
LAST-MODIFIED:20260320T162541Z
UID:10003214-1917250200-1917257400@friendshiphall.org
SUMMARY:AA Meeting
DESCRIPTION:
URL:https://friendshiphall.org/event/aa-meeting-2/2030-10-03/
LOCATION:Friendship Hall\, 83 Old Main Street\, Marshfield Hills\, MA\, 02051\, United States
END:VEVENT
BEGIN:VEVENT
DTSTART;TZID=America/New_York:20301004T183000
DTEND;TZID=America/New_York:20301004T203000
DTSTAMP:20260421T214116
CREATED:20260320T162649Z
LAST-MODIFIED:20260320T162822Z
UID:10003476-1917369000-1917376200@friendshiphall.org
SUMMARY:AA Meeting
DESCRIPTION:
URL:https://friendshiphall.org/event/aa-meeting-3/2030-10-04/
LOCATION:Friendship Hall\, 83 Old Main Street\, Marshfield Hills\, MA\, 02051\, United States
END:VEVENT
BEGIN:VEVENT
DTSTART;TZID=America/New_York:20301006T173000
DTEND;TZID=America/New_York:20301006T193000
DTSTAMP:20260421T214116
CREATED:20260320T163124Z
LAST-MODIFIED:20260320T163327Z
UID:10003738-1917538200-1917545400@friendshiphall.org
SUMMARY:AA Meeting
DESCRIPTION:
URL:https://friendshiphall.org/event/aa-meeting-4/2030-10-06/
LOCATION:Friendship Hall\, 83 Old Main Street\, Marshfield Hills\, MA\, 02051\, United States
END:VEVENT
BEGIN:VEVENT
DTSTART;TZID=America/New_York:20301007T093000
DTEND;TZID=America/New_York:20301007T113000
DTSTAMP:20260421T214116
CREATED:20260211T173242Z
LAST-MODIFIED:20260211T173455Z
UID:10001046-1917595800-1917603000@friendshiphall.org
SUMMARY:AA Meeting
DESCRIPTION:
URL:https://friendshiphall.org/event/aa-meeting/2030-10-07/
LOCATION:Friendship Hall\, 83 Old Main Street\, Marshfield Hills\, MA\, 02051\, United States
END:VEVENT
BEGIN:VEVENT
DTSTART;TZID=America/New_York:20301010T093000
DTEND;TZID=America/New_York:20301010T113000
DTSTAMP:20260421T214116
CREATED:20260320T161938Z
LAST-MODIFIED:20260320T162541Z
UID:10003215-1917855000-1917862200@friendshiphall.org
SUMMARY:AA Meeting
DESCRIPTION:
URL:https://friendshiphall.org/event/aa-meeting-2/2030-10-10/
LOCATION:Friendship Hall\, 83 Old Main Street\, Marshfield Hills\, MA\, 02051\, United States
END:VEVENT
BEGIN:VEVENT
DTSTART;TZID=America/New_York:20301011T183000
DTEND;TZID=America/New_York:20301011T203000
DTSTAMP:20260421T214116
CREATED:20260320T162649Z
LAST-MODIFIED:20260320T162822Z
UID:10003477-1917973800-1917981000@friendshiphall.org
SUMMARY:AA Meeting
DESCRIPTION:
URL:https://friendshiphall.org/event/aa-meeting-3/2030-10-11/
LOCATION:Friendship Hall\, 83 Old Main Street\, Marshfield Hills\, MA\, 02051\, United States
END:VEVENT
BEGIN:VEVENT
DTSTART;TZID=America/New_York:20301013T173000
DTEND;TZID=America/New_York:20301013T193000
DTSTAMP:20260421T214116
CREATED:20260320T163124Z
LAST-MODIFIED:20260320T163327Z
UID:10003739-1918143000-1918150200@friendshiphall.org
SUMMARY:AA Meeting
DESCRIPTION:
URL:https://friendshiphall.org/event/aa-meeting-4/2030-10-13/
LOCATION:Friendship Hall\, 83 Old Main Street\, Marshfield Hills\, MA\, 02051\, United States
END:VEVENT
BEGIN:VEVENT
DTSTART;TZID=America/New_York:20301014T093000
DTEND;TZID=America/New_York:20301014T113000
DTSTAMP:20260421T214116
CREATED:20260211T173242Z
LAST-MODIFIED:20260211T173455Z
UID:10001047-1918200600-1918207800@friendshiphall.org
SUMMARY:AA Meeting
DESCRIPTION:
URL:https://friendshiphall.org/event/aa-meeting/2030-10-14/
LOCATION:Friendship Hall\, 83 Old Main Street\, Marshfield Hills\, MA\, 02051\, United States
END:VEVENT
BEGIN:VEVENT
DTSTART;TZID=America/New_York:20301017T093000
DTEND;TZID=America/New_York:20301017T113000
DTSTAMP:20260421T214116
CREATED:20260320T161938Z
LAST-MODIFIED:20260320T162541Z
UID:10003216-1918459800-1918467000@friendshiphall.org
SUMMARY:AA Meeting
DESCRIPTION:
URL:https://friendshiphall.org/event/aa-meeting-2/2030-10-17/
LOCATION:Friendship Hall\, 83 Old Main Street\, Marshfield Hills\, MA\, 02051\, United States
END:VEVENT
BEGIN:VEVENT
DTSTART;TZID=America/New_York:20301018T183000
DTEND;TZID=America/New_York:20301018T203000
DTSTAMP:20260421T214116
CREATED:20260320T162649Z
LAST-MODIFIED:20260320T162822Z
UID:10003478-1918578600-1918585800@friendshiphall.org
SUMMARY:AA Meeting
DESCRIPTION:
URL:https://friendshiphall.org/event/aa-meeting-3/2030-10-18/
LOCATION:Friendship Hall\, 83 Old Main Street\, Marshfield Hills\, MA\, 02051\, United States
END:VEVENT
BEGIN:VEVENT
DTSTART;TZID=America/New_York:20301020T173000
DTEND;TZID=America/New_York:20301020T193000
DTSTAMP:20260421T214116
CREATED:20260320T163124Z
LAST-MODIFIED:20260320T163327Z
UID:10003740-1918747800-1918755000@friendshiphall.org
SUMMARY:AA Meeting
DESCRIPTION:
URL:https://friendshiphall.org/event/aa-meeting-4/2030-10-20/
LOCATION:Friendship Hall\, 83 Old Main Street\, Marshfield Hills\, MA\, 02051\, United States
END:VEVENT
BEGIN:VEVENT
DTSTART;TZID=America/New_York:20301021T093000
DTEND;TZID=America/New_York:20301021T113000
DTSTAMP:20260421T214116
CREATED:20260211T173242Z
LAST-MODIFIED:20260211T173455Z
UID:10001048-1918805400-1918812600@friendshiphall.org
SUMMARY:AA Meeting
DESCRIPTION:
URL:https://friendshiphall.org/event/aa-meeting/2030-10-21/
LOCATION:Friendship Hall\, 83 Old Main Street\, Marshfield Hills\, MA\, 02051\, United States
END:VEVENT
BEGIN:VEVENT
DTSTART;TZID=America/New_York:20301024T093000
DTEND;TZID=America/New_York:20301024T113000
DTSTAMP:20260421T214116
CREATED:20260320T161938Z
LAST-MODIFIED:20260320T162541Z
UID:10003217-1919064600-1919071800@friendshiphall.org
SUMMARY:AA Meeting
DESCRIPTION:
URL:https://friendshiphall.org/event/aa-meeting-2/2030-10-24/
LOCATION:Friendship Hall\, 83 Old Main Street\, Marshfield Hills\, MA\, 02051\, United States
END:VEVENT
BEGIN:VEVENT
DTSTART;TZID=America/New_York:20301025T183000
DTEND;TZID=America/New_York:20301025T203000
DTSTAMP:20260421T214116
CREATED:20260320T162649Z
LAST-MODIFIED:20260320T162822Z
UID:10003479-1919183400-1919190600@friendshiphall.org
SUMMARY:AA Meeting
DESCRIPTION:
URL:https://friendshiphall.org/event/aa-meeting-3/2030-10-25/
LOCATION:Friendship Hall\, 83 Old Main Street\, Marshfield Hills\, MA\, 02051\, United States
END:VEVENT
BEGIN:VEVENT
DTSTART;TZID=America/New_York:20301027T173000
DTEND;TZID=America/New_York:20301027T193000
DTSTAMP:20260421T214116
CREATED:20260320T163124Z
LAST-MODIFIED:20260320T163327Z
UID:10003741-1919352600-1919359800@friendshiphall.org
SUMMARY:AA Meeting
DESCRIPTION:
URL:https://friendshiphall.org/event/aa-meeting-4/2030-10-27/
LOCATION:Friendship Hall\, 83 Old Main Street\, Marshfield Hills\, MA\, 02051\, United States
END:VEVENT
BEGIN:VEVENT
DTSTART;TZID=America/New_York:20301028T093000
DTEND;TZID=America/New_York:20301028T113000
DTSTAMP:20260421T214116
CREATED:20260211T173242Z
LAST-MODIFIED:20260211T173455Z
UID:10001049-1919410200-1919417400@friendshiphall.org
SUMMARY:AA Meeting
DESCRIPTION:
URL:https://friendshiphall.org/event/aa-meeting/2030-10-28/
LOCATION:Friendship Hall\, 83 Old Main Street\, Marshfield Hills\, MA\, 02051\, United States
END:VEVENT
BEGIN:VEVENT
DTSTART;TZID=America/New_York:20301031T093000
DTEND;TZID=America/New_York:20301031T113000
DTSTAMP:20260421T214116
CREATED:20260320T161938Z
LAST-MODIFIED:20260320T162541Z
UID:10003218-1919669400-1919676600@friendshiphall.org
SUMMARY:AA Meeting
DESCRIPTION:
URL:https://friendshiphall.org/event/aa-meeting-2/2030-10-31/
LOCATION:Friendship Hall\, 83 Old Main Street\, Marshfield Hills\, MA\, 02051\, United States
END:VEVENT
BEGIN:VEVENT
DTSTART;TZID=America/New_York:20301101T183000
DTEND;TZID=America/New_York:20301101T203000
DTSTAMP:20260421T214116
CREATED:20260320T162649Z
LAST-MODIFIED:20260320T162822Z
UID:10003480-1919788200-1919795400@friendshiphall.org
SUMMARY:AA Meeting
DESCRIPTION:
URL:https://friendshiphall.org/event/aa-meeting-3/2030-11-01/
LOCATION:Friendship Hall\, 83 Old Main Street\, Marshfield Hills\, MA\, 02051\, United States
END:VEVENT
BEGIN:VEVENT
DTSTART;TZID=America/New_York:20301103T173000
DTEND;TZID=America/New_York:20301103T193000
DTSTAMP:20260421T214116
CREATED:20260320T163124Z
LAST-MODIFIED:20260320T163327Z
UID:10003742-1919957400-1919964600@friendshiphall.org
SUMMARY:AA Meeting
DESCRIPTION:
URL:https://friendshiphall.org/event/aa-meeting-4/2030-11-03/
LOCATION:Friendship Hall\, 83 Old Main Street\, Marshfield Hills\, MA\, 02051\, United States
END:VEVENT
BEGIN:VEVENT
DTSTART;TZID=America/New_York:20301104T093000
DTEND;TZID=America/New_York:20301104T113000
DTSTAMP:20260421T214116
CREATED:20260211T173242Z
LAST-MODIFIED:20260211T173455Z
UID:10001050-1920015000-1920022200@friendshiphall.org
SUMMARY:AA Meeting
DESCRIPTION:
URL:https://friendshiphall.org/event/aa-meeting/2030-11-04/
LOCATION:Friendship Hall\, 83 Old Main Street\, Marshfield Hills\, MA\, 02051\, United States
END:VEVENT
END:VCALENDAR